BEGIN:VCALENDAR
VERSION:2.0
PRODID:-//Anderson Humane - ECPv6.15.20//NONSGML v1.0//EN
CALSCALE:GREGORIAN
METHOD:PUBLISH
X-ORIGINAL-URL:https://ahconnects.org
X-WR-CALDESC:Events for Anderson Humane
REFRESH-INTERVAL;VALUE=DURATION:PT1H
X-Robots-Tag:noindex
X-PUBLISHED-TTL:PT1H
BEGIN:VTIMEZONE
TZID:America/Chicago
BEGIN:DAYLIGHT
TZOFFSETFROM:-0600
TZOFFSETTO:-0500
TZNAME:CDT
DTSTART:20240310T080000
END:DAYLIGHT
BEGIN:STANDARD
TZOFFSETFROM:-0500
TZOFFSETTO:-0600
TZNAME:CST
DTSTART:20241103T070000
END:STANDARD
BEGIN:DAYLIGHT
TZOFFSETFROM:-0600
TZOFFSETTO:-0500
TZNAME:CDT
DTSTART:20250309T080000
END:DAYLIGHT
BEGIN:STANDARD
TZOFFSETFROM:-0500
TZOFFSETTO:-0600
TZNAME:CST
DTSTART:20251102T070000
END:STANDARD
BEGIN:DAYLIGHT
TZOFFSETFROM:-0600
TZOFFSETTO:-0500
TZNAME:CDT
DTSTART:20260308T080000
END:DAYLIGHT
BEGIN:STANDARD
TZOFFSETFROM:-0500
TZOFFSETTO:-0600
TZNAME:CST
DTSTART:20261101T070000
END:STANDARD
END:VTIMEZONE
BEGIN:VTIMEZONE
TZID:America/New_York
BEGIN:DAYLIGHT
TZOFFSETFROM:-0500
TZOFFSETTO:-0400
TZNAME:EDT
DTSTART:20240310T070000
END:DAYLIGHT
BEGIN:STANDARD
TZOFFSETFROM:-0400
TZOFFSETTO:-0500
TZNAME:EST
DTSTART:20241103T060000
END:STANDARD
BEGIN:DAYLIGHT
TZOFFSETFROM:-0500
TZOFFSETTO:-0400
TZNAME:EDT
DTSTART:20250309T070000
END:DAYLIGHT
BEGIN:STANDARD
TZOFFSETFROM:-0400
TZOFFSETTO:-0500
TZNAME:EST
DTSTART:20251102T060000
END:STANDARD
BEGIN:DAYLIGHT
TZOFFSETFROM:-0500
TZOFFSETTO:-0400
TZNAME:EDT
DTSTART:20260308T070000
END:DAYLIGHT
BEGIN:STANDARD
TZOFFSETFROM:-0400
TZOFFSETTO:-0500
TZNAME:EST
DTSTART:20261101T060000
END:STANDARD
END:VTIMEZONE
BEGIN:VEVENT
DTSTART;TZID=America/Chicago:20251004T063000
DTEND;TZID=America/Chicago:20251004T073000
DTSTAMP:20260423T172553
CREATED:20251001T200225Z
LAST-MODIFIED:20251001T200225Z
UID:257747-1759559400-1759563000@ahconnects.org
SUMMARY:Feathered Journey: A Migratory Bird Experience
DESCRIPTION:Join us for a guided walk at beautiful natural areas as we explore the incredible journeys of migratory birds. Discover who’s passing through\, who’s staying for the season\, and how these feathered travelers navigate thousands of miles each year. Along the way\, we’ll learn to identify native and migratory species by sight and sound\, and uncover the challenges birds face along their routes. Whether you’re a seasoned birder or just curious about nature\, this walk offers a peaceful\, educational experience for all ages. Bring your binoculars and your sense of wonder! \nWe’ll be highlighting migration patterns across Illinois—with some compelling numbers to get excited about: \n\nIllinois sits along the Mississippi Flyway\, a major migratory route. About 40% of North American migrating waterfowl and shorebirds use this corridor. illinoisaudubon.org+5All Pets Adviser+5WROK 1440 AM / 96.1 FM+5dashboard.birdcast.info+5On The Feeder+5dashboard.birdcast.info+5Wikipedia+2All Pets Adviser+2\n\nBirdCast data shows that over a billion birds pass through Illinois during fall migration on their journey south. dashboard.birdcast.info+3dashboard.birdcast.info+3WROK 1440 AM / 96.1 FM+3\n\nWhy you should come: \n\nWitnessing millions of birds in motion across our skies is proof of nature’s extraordinary rhythms. NBC Chicago+4WROK 1440 AM / 96.1 FM+4All Pets Adviser+4\n\nIllinois plays a vital role in providing safe\, nourishing stopovers for these travelers.\n\nWhat to know: \n\nWhen? Dates and locations vary—keep an eye on our page for updates!\n\nSaturday\, 9/27/25\, Pratt’s Wayne Woods Forest Preserve\, Powis Road\, Wayne\, 60184\nSaturday\, 10/04/2025\, Johnson’s Mound Forest Preserve\, 41W600 Hughes Rd. Elburn\nSaturday\, 10/11/2025\, Dick Young Forest Preserve\, 39W115 Main St. Batavia\n\n \nWhat to bring? Binoculars\, curiosity\, and your sense of wonder.\nWho’s welcome? All ages—everyone can enjoy the journey.\n\nCome celebrate migration with us—because every flight tells a story. \nRegister Here \n 
URL:https://ahconnects.org/event/feathered-journey-a-migratory-bird-experience-3/
LOCATION:Johnson’s Mound Forest Preserve\, 41W600 Hughes Rd.\, Elburn\, 60119\, United States
CATEGORIES:Education,Wildlife
ATTACH;FMTTYPE=image/png:https://ahconnects.org/wp-content/uploads/2025/10/3rd-Party-Event-Photos-Website-2025-10-01T150125.803.png
END:VEVENT
BEGIN:VEVENT
DTSTART;TZID=America/New_York:20251004T100000
DTEND;TZID=America/New_York:20251004T160000
DTSTAMP:20260423T172553
CREATED:20230104T170459Z
LAST-MODIFIED:20251003T202336Z
UID:250139-1759572000-1759593600@ahconnects.org
SUMMARY:The Road Home Mega Adoption Event
DESCRIPTION:The Road Home Mega Adoption Event. Help Us Get To 1\,000 Adoptions!\nSaturday\, October 4th | 10 a.m. – 4 p.m. | Brilliance Subaru Elgin | 1500 N. Randall Road \nAnderson Humane is once again partnering with Brilliance Subaru Elgin to find loving families for homeless cats and dogs. Come see lots of animals available for adoption and eagerly awaiting their loving homes! Could it be yours? \nLike all animals available for adoption from Anderson Humane\, these cats and dogs are spayed/neutered\, microchipped\, and vaccinated. We also support you post-adoption with training\, low-cost veterinary care\, and other resources to help you establish a positive relationship with your new animal companion. \nThis event is part of the Subaru Loves Pets national initiative\, which is dedicated to improving the safety and well-being of animals by getting them out of shelters and into loving homes – a goal we champion every day at Anderson Humane. \nThere are no appointments at this adoption event. All animals are available to the first person who comes to take them home. All the adoptables featured in the link below are intended to be available for adoption at our event\, but their availability is not guaranteed! Adoptions are first come\, first serve. \nFAQ\nWhat do I need to bring to adopt? \nYou’ll need to bring a valid ID and form of payment\, we accept card and cash. \nHow do I know who will be available for adoption at this event? \nOnce we know which adoptables will be attending this event\, they’ll be posted on our Facebook page! Keep a look out a day or two before the event. \nCan I put a hold on a dog or cat? \nWe do not place holds on adoptables\, we want to be fair to all folks that are interested. \nWill there be adult dogs too\, or only puppies? \nWe typically bring lots of puppies; they’re usually very resilient and eager to make new friends! Adoption events can be stressful for adult dogs\, so we only bring adult dogs we know would be well-suited for a crowded event. \nWhat time should I get there? \nHistorically\, there has typically been a line to get into this adoption event. You’re more than welcome to arrive when you’d like\, but if there’s an adoptable you have an eye on\, we suggest getting there early.\n			\n			\n				\n				\n				\n				\n			\n				\n				\n			\n				\n				\n				\n				\n				\n				\n				\n				\n				\n				\n				\n				\n				\n				\n				\n				\n				\n				Check out who is available for adoption at The Road Home Event at Brilliance Subaru!
URL:https://ahconnects.org/event/theroadhomeadoptionevent/
LOCATION:Elgin Brilliance Subaru\, Brilliance Subaru 1500 North Randall Road\, Elgin\, IL\, 60123\, United States
CATEGORIES:Adoption,Partner Events
ATTACH;FMTTYPE=image/png:https://ahconnects.org/wp-content/uploads/2023/01/3rd-Party-Event-Photos-Website-2025-09-04T171229.127.png
END:VEVENT
BEGIN:VEVENT
DTSTART;TZID=America/Chicago:20251004T123000
DTEND;TZID=America/Chicago:20251004T153000
DTSTAMP:20260423T172553
CREATED:20250520T145440Z
LAST-MODIFIED:20250905T193138Z
UID:256278-1759581000-1759591800@ahconnects.org
SUMMARY:Captain's Quarters Pet Costume Party & Fundraising Event
DESCRIPTION:A  lively lakeside celebration benefiting Anderson Humane! Enjoy great food\, live music\, drinks\, and summer vibes at this upbeat marina favorite with a patio\, playground\, and volleyball. \n\nDon’t miss the Pet Costume Party! Dress up your furry friend and show off their best look for a chance to win prizes and bragging rights!\nMeet two of our Healing Paws therapy dogs\, who will be representing Anderson Humane and spreading smiles throughout the event.\n\nAll proceeds go directly to support Anderson Humane’s mission of saving lives and creating stronger bonds between people and animals. \nBring your friends (two- and four-legged!)\, join the fun\, and help us make a difference—one costume at a time. \nTo check out their menu or learn more about The Captain’s Quarters\, visit their website! \nFor more information\, click here for the event flyer \nSponsorships Available\nContact Jenn Smiley at jsmiley@ahconnects.org
URL:https://ahconnects.org/event/captains-quarters-pet-costume-party-fundraising-event/
LOCATION:Captain’s Quarters\, 38283 N Bolton Pl Unit 18\, Antioch\, IL\, 60002\, United States
CATEGORIES:Fundraising,Partner Events
ATTACH;FMTTYPE=image/png:https://ahconnects.org/wp-content/uploads/2025/05/3rd-Party-Event-Photos-Website-10.png
END:VEVENT
BEGIN:VEVENT
DTSTART;TZID=America/Chicago:20251011T063000
DTEND;TZID=America/Chicago:20251011T073000
DTSTAMP:20260423T172553
CREATED:20251001T195546Z
LAST-MODIFIED:20251001T195857Z
UID:257742-1760164200-1760167800@ahconnects.org
SUMMARY:Feathered Journey: A Migratory Bird Experience
DESCRIPTION:Join us for a guided walk at beautiful natural areas as we explore the incredible journeys of migratory birds. Discover who’s passing through\, who’s staying for the season\, and how these feathered travelers navigate thousands of miles each year. Along the way\, we’ll learn to identify native and migratory species by sight and sound\, and uncover the challenges birds face along their routes. Whether you’re a seasoned birder or just curious about nature\, this walk offers a peaceful\, educational experience for all ages. Bring your binoculars and your sense of wonder! \nWe’ll be highlighting migration patterns across Illinois—with some compelling numbers to get excited about: \n\nIllinois sits along the Mississippi Flyway\, a major migratory route. About 40% of North American migrating waterfowl and shorebirds use this corridor. illinoisaudubon.org+5All Pets Adviser+5WROK 1440 AM / 96.1 FM+5dashboard.birdcast.info+5On The Feeder+5dashboard.birdcast.info+5Wikipedia+2All Pets Adviser+2\n\nBirdCast data shows that over a billion birds pass through Illinois during fall migration on their journey south. dashboard.birdcast.info+3dashboard.birdcast.info+3WROK 1440 AM / 96.1 FM+3\n\nWhy you should come: \n\nWitnessing millions of birds in motion across our skies is proof of nature’s extraordinary rhythms. NBC Chicago+4WROK 1440 AM / 96.1 FM+4All Pets Adviser+4\n\nIllinois plays a vital role in providing safe\, nourishing stopovers for these travelers.\n\nWhat to know: \n\nWhen? Dates and locations vary—keep an eye on our page for updates!\n\nSaturday\, 9/27/25\, Pratt’s Wayne Woods Forest Preserve\, Powis Road\, Wayne\, 60184\nSaturday\, 10/04/2025\, Johnson’s Mound Forest Preserve\, 41W600 Hughes Rd. Elburn\nSaturday\, 10/11/2025\, Dick Young Forest Preserve\, 39W115 Main St. Batavia\n\n \nWhat to bring? Binoculars\, curiosity\, and your sense of wonder.\nWho’s welcome? All ages—everyone can enjoy the journey.\n\nCome celebrate migration with us—because every flight tells a story. \nRegister Here \n 
URL:https://ahconnects.org/event/feathered-journey-a-migratory-bird-experience-2/
LOCATION:Dick Young Forest Preserve\, 39W115 Main St.\, Batavia\, IL\, 60510\, United States
CATEGORIES:Education,Wildlife
ATTACH;FMTTYPE=image/png:https://ahconnects.org/wp-content/uploads/2025/09/3rd-Party-Event-Photos-Website-2025-09-03T125103.914.png
END:VEVENT
BEGIN:VEVENT
DTSTART;TZID=America/New_York:20251011T090000
DTEND;TZID=America/New_York:20251011T120000
DTSTAMP:20260423T172553
CREATED:20220914T182616Z
LAST-MODIFIED:20250916T153444Z
UID:248916-1760173200-1760184000@ahconnects.org
SUMMARY:Gerald Subaru - Subaru Loves Pets
DESCRIPTION:Thank you for being interested in adopting with Anderson Humane.\nWe believe that the human-animal connection has unlimited benefits for both people and animals. What better way to bring an animal into your life than adopting a pet in need of a home? We are excited to help you discover your furry companion and look forward to seeing you at our adoption event! \nWe will have dogs\, puppies\, cats and kittens at this event. \n  \n\nAnderson Humane places 4\,000 homeless pets into loving homes and rehabilitates 3\,000 injured or orphaned wild animals every year. Through the support of our community\, we have found forever homes for more than 80\,000 pets since our founding more than 50 years ago. \nWe are passionate about caring for animals and about creating meaningful human-animal connections. We know that animals make us better people\, and we want as many people in our community as possible to experience that truth firsthand.
URL:https://ahconnects.org/event/gs-adoption-1012/
LOCATION:Gerald Subaru\, 205 Hansen Blvd\, North Aurora\, IL\, 60542\, United States
CATEGORIES:Adoption,Partner Events
ATTACH;FMTTYPE=image/png:https://ahconnects.org/wp-content/uploads/2022/09/3rd-Party-Event-Photos-Website-2025-09-08T145453.180.png
END:VEVENT
BEGIN:VEVENT
DTSTART;TZID=America/Chicago:20251012T100000
DTEND;TZID=America/Chicago:20251012T120000
DTSTAMP:20260423T172553
CREATED:20251001T201410Z
LAST-MODIFIED:20251001T203649Z
UID:257751-1760263200-1760270400@ahconnects.org
SUMMARY:Wildlife Educational  Open House
DESCRIPTION:Discover Wild Learning Opportunities for Your Students \nJoin us for a special Open House for Educators at Anderson Humane Wildlife Center! This free event is designed exclusively for teachers\, principals\, and other education professionals to explore the engaging wildlife education programs we offer for schools and youth groups. \nMeet our ambassador animals up close \nPreview mini-presentations from our most popular programs \nLearn how we can bring nature-based learning directly to your classroom \nBring the whole family – fun for all ages! \nWhether you’re looking to supplement science curriculum\, inspire conservation awareness\, or provide hands-on learning\, our team is excited to show you what’s possible.
URL:https://ahconnects.org/event/wildlife-educational-open-house/
LOCATION:Elburn Forest Preserve\, Elburn Forest Preserve 45W061 IL-38\, Elburn\, IL\, 60119\, United States
CATEGORIES:Education,Wildlife
ATTACH;FMTTYPE=image/png:https://ahconnects.org/wp-content/uploads/2025/10/3rd-Party-Event-Photos-Website-2025-10-01T151330.475.png
END:VEVENT
BEGIN:VEVENT
DTSTART;VALUE=DATE:20251022
DTEND;VALUE=DATE:20251023
DTSTAMP:20260423T172553
CREATED:20250915T144440Z
LAST-MODIFIED:20250915T144440Z
UID:257646-1761091200-1761177599@ahconnects.org
SUMMARY:Anderson Humane Community Giveback Event at Alter Brewing St. Charles
DESCRIPTION:Join us at Alter Brewing for a Community Giveback Day benefiting Anderson Humane! From 11 AM to 11 PM\, $1 from every alcoholic beverage sold will be donated to support Anderson Humane \nEnjoy great brews\, support a great cause\, and help us raise funds for homeless pets and injured wildlife. Every sip supports second chances! \nCome thirsty. Leave inspired. \nFor more information on Alter Brewing\, their locations and events\, visit their website! \nSponsorships Available\nContact Jenn Smiley at jsmiley@ahconnects.org
URL:https://ahconnects.org/event/anderson-humane-community-giveback-event-at-alter-brewing-st-charles-3/
LOCATION:Alter Brewing – STC\, 12 S First St.\, St. Charles\, IL\, 60174\, United States
CATEGORIES:Fundraising,Partner Events
ATTACH;FMTTYPE=image/png:https://ahconnects.org/wp-content/uploads/2025/05/3rd-Party-Event-Photos-Website-21.png
END:VEVENT
BEGIN:VEVENT
DTSTART;TZID=America/Chicago:20251025T090000
DTEND;TZID=America/Chicago:20251025T120000
DTSTAMP:20260423T172553
CREATED:20251008T213850Z
LAST-MODIFIED:20251008T213850Z
UID:257777-1761382800-1761393600@ahconnects.org
SUMMARY:Bark at the Bank - Elgin State Bank Adoption Event
DESCRIPTION:Thank you for being interested in adopting with Anderson Humane.\n\n\nWe believe that the human-animal connection has unlimited benefits for both people and animals. What better way to bring an animal into your life than adopting a pet in need of a home? We’ll have dogs & puppies at this event. We are excited to help you discover your furry companion and look forward to seeing you at our adoption event! \n\nAnderson Humane places 4\,000 homeless pets into loving homes and rehabilitates 3\,000 injured or orphaned wild animals every year. Through the support of our community\, we have found forever homes for more than 80\,000 pets since our founding more than 50 years ago. \nWe are passionate about caring for animals and about creating meaningful human-animal connections. We know that animals make us better people\, and we want as many people in our community as possible to experience that truth firsthand. \n  \nWant to learn more about Elgin State Bank? Check out their website!
URL:https://ahconnects.org/event/bark-at-the-bank-elgin-state-bank-adoption-event/
LOCATION:Elgin State Bank\, 1001 S Randall Rd\, Elgin\, IL\, 60123\, United States
ATTACH;FMTTYPE=image/png:https://ahconnects.org/wp-content/uploads/2025/10/3rd-Party-Event-Photos-Website-2025-10-08T163658.617.png
END:VEVENT
END:VCALENDAR