BEGIN:VCALENDAR
VERSION:2.0
PRODID:-//Anderson Humane - ECPv6.15.20//NONSGML v1.0//EN
CALSCALE:GREGORIAN
METHOD:PUBLISH
X-WR-CALNAME:Anderson Humane
X-ORIGINAL-URL:https://ahconnects.org
X-WR-CALDESC:Events for Anderson Humane
REFRESH-INTERVAL;VALUE=DURATION:PT1H
X-Robots-Tag:noindex
X-PUBLISHED-TTL:PT1H
BEGIN:VTIMEZONE
TZID:America/Chicago
BEGIN:DAYLIGHT
TZOFFSETFROM:-0600
TZOFFSETTO:-0500
TZNAME:CDT
DTSTART:20240310T080000
END:DAYLIGHT
BEGIN:STANDARD
TZOFFSETFROM:-0500
TZOFFSETTO:-0600
TZNAME:CST
DTSTART:20241103T070000
END:STANDARD
BEGIN:DAYLIGHT
TZOFFSETFROM:-0600
TZOFFSETTO:-0500
TZNAME:CDT
DTSTART:20250309T080000
END:DAYLIGHT
BEGIN:STANDARD
TZOFFSETFROM:-0500
TZOFFSETTO:-0600
TZNAME:CST
DTSTART:20251102T070000
END:STANDARD
BEGIN:DAYLIGHT
TZOFFSETFROM:-0600
TZOFFSETTO:-0500
TZNAME:CDT
DTSTART:20260308T080000
END:DAYLIGHT
BEGIN:STANDARD
TZOFFSETFROM:-0500
TZOFFSETTO:-0600
TZNAME:CST
DTSTART:20261101T070000
END:STANDARD
END:VTIMEZONE
BEGIN:VEVENT
DTSTART;TZID=America/Chicago:20250614T110000
DTEND;TZID=America/Chicago:20250614T150000
DTSTAMP:20260423T233633
CREATED:20250509T174806Z
LAST-MODIFIED:20250609T140305Z
UID:256209-1749898800-1749913200@ahconnects.org
SUMMARY:Adoption Event at Streamwood Pet Supplies Plus
DESCRIPTION:We believe that the human-animal connection has unlimited benefits for both people and animals. What better way to bring an animal into your life than adopting a pet in need of a home? We’ll have puppies\, dogs\, and kittens at this event. We are excited to help you discover your furry companion and look forward to seeing you at our adoption event! \nTo learn more about our partner\, Pet Supplies Plus\, visit their website! \n\nAnderson Humane places 4\,000 homeless pets into loving homes and rehabilitates 3\,000 injured or orphaned wild animals every year. Through the support of our community\, we have found forever homes for more than 80\,000 pets since our founding more than 50 years ago. \nWe are passionate about caring for animals and about creating meaningful human-animal connections. We know that animals make us better people\, and we want as many people in our community as possible to experience that truth firsthand.
URL:https://ahconnects.org/event/adoption-event-at-pet-supplies-plus/
LOCATION:Pet Supplies Plus\, 61 E. Irving Park Rd\, Streamwood\, IL\, 60107\, United States
CATEGORIES:Adoption
ATTACH;FMTTYPE=image/png:https://ahconnects.org/wp-content/uploads/2025/05/3rd-Party-Event-Photos-Website-31.png
END:VEVENT
BEGIN:VEVENT
DTSTART;TZID=America/Chicago:20250621T110000
DTEND;TZID=America/Chicago:20250621T150000
DTSTAMP:20260423T233633
CREATED:20250606T211950Z
LAST-MODIFIED:20250606T211950Z
UID:256647-1750503600-1750518000@ahconnects.org
SUMMARY:Two Bostons - Adoption Event
DESCRIPTION:We believe that the human-animal connection has unlimited benefits for both people and animals. What better way to bring an animal into your life than adopting a pet in need of a home? We’ll have puppies\, dogs\, and kittens at this event. We are excited to help you discover your furry companion and look forward to seeing you at our adoption event! \n\n\n\n\n\n\n\nAnderson Humane places 4\,000 homeless pets into loving homes and rehabilitates 3\,000 injured or orphaned wild animals every year. Through the support of our community\, we have found forever homes for more than 80\,000 pets since our founding more than 50 years ago. \nWe are passionate about caring for animals and about creating meaningful human-animal connections. We know that animals make us better people\, and we want as many people in our community as possible to experience that truth firsthand. \nWant to learn more about Two Bostons? Click Here! 
URL:https://ahconnects.org/event/two-bostons-adoption-event/
LOCATION:Two Bostons – Geneva\, 1900 South Randall Road\, Suite 140\, Geneva\, IL\, 60134\, United States
CATEGORIES:Adoption
ATTACH;FMTTYPE=image/png:https://ahconnects.org/wp-content/uploads/2025/06/3rd-Party-Event-Photos-Website-30.png
END:VEVENT
BEGIN:VEVENT
DTSTART;VALUE=DATE:20250625
DTEND;VALUE=DATE:20250626
DTSTAMP:20260423T233633
CREATED:20250602T203733Z
LAST-MODIFIED:20250616T144607Z
UID:256604-1750809600-1750895999@ahconnects.org
SUMMARY:Dine for a Cause at Culver's
DESCRIPTION:All day on Tuesday\, June 25\, Culver’s at 111 S. Randall Road in St. Charles will donate 25% of all sales to Anderson Humane! \nWhether you’re craving a ButterBurger or a creamy custard cone\, every bite helps animals find a loving home. \nStop by\, grab a meal or a treat\, and support a business that gives back.   \nNeed to see a menu or want more information on Culvers? Visit their website
URL:https://ahconnects.org/event/dine-for-a-cause-at-culvers/
LOCATION:Culver’s St. Charles\, 111 S. Randall Road\, St. Charles\, IL\, 60174\, United States
CATEGORIES:Fundraising,Partner Events
ATTACH;FMTTYPE=image/png:https://ahconnects.org/wp-content/uploads/2025/06/3rd-Party-Event-Photos-Website-27.png
END:VEVENT
BEGIN:VEVENT
DTSTART;TZID=America/Chicago:20250627T190000
DTEND;TZID=America/Chicago:20250628T000000
DTSTAMP:20260423T233633
CREATED:20250617T204833Z
LAST-MODIFIED:20250619T162147Z
UID:256726-1751050800-1751068800@ahconnects.org
SUMMARY:After Hours Adoption Event: Paw-Jama Party!
DESCRIPTION:Get ready for a night of cozy fun and heartwarming connections! Come in your pajamas and meet our adorable\, adoptable pets—no appointment needed. This family-friendly\, after-hours event is the perfect time to snuggle up and find your new furry best friend. \nEvent Highlights: \n\n\nMeet adoptable dogs\, puppies\, cats & kittens \n\n\nEnjoy games\, treats\, and cozy vibes \n\n\nAdoption Specials:• Adult dogs & cats (9+ months): Waived adoption fees• Puppies & kittens: 25% off adoption fees \n\n\nWhether you’re seriously considering adoption or just looking for a fun evening with the family\, you’re invited to stop by and make some memories. \nNo registration required—just drop in!
URL:https://ahconnects.org/event/after-hours-adoption-event-paw-jama-party/
LOCATION:S. Elgin Shelter\, 1000 S. LaFox\, South Elgin\, IL\, 60177\, United States
CATEGORIES:Adoption,All Ages,Night
ATTACH;FMTTYPE=image/jpeg:https://ahconnects.org/wp-content/uploads/2025/06/Sampson-Tucked-in.jpg
END:VEVENT
BEGIN:VEVENT
DTSTART;TZID=America/Chicago:20250628T110000
DTEND;TZID=America/Chicago:20250628T150000
DTSTAMP:20260423T233633
CREATED:20240722T151757Z
LAST-MODIFIED:20250627T161354Z
UID:254745-1751108400-1751122800@ahconnects.org
SUMMARY:Geneva Adopt & Shop
DESCRIPTION:Take a tour of Geneva and meet adorable adoptables along the way! Stop by participating businesses to find your new best friend and to complete your pup passport. Completed pup passports can be eligible to win a Geneva Chamber gift card!   \nBe sure to visit: \n                      \n			\n			\n				\n				\n				\n				\n			\n				\n				\n			\n				\n				\n				\n				\n				\n				\n				\n				\n				\n				\n				\n				\n				\n				\n				\n				\n				\n				\n			\n				\n				\n				\n				\n				\n\n\n\n\n212 S 3rd Street Suite AGeneva\, IL 60134\n			\n			\n				\n				\n				\n				\n				\n				\n				\n				\n				\n				\n			\n				\n				\n				\n				\n				\n\n\n\n\n728 W State StreetGeneva\, IL 60134\n			\n			\n				\n				\n				\n				\n				\n				\n				\n				\n				\n				\n			\n				\n				\n				\n				\n				12 S 3rd StreetGeneva\, IL 60134\n			\n			\n				\n				\n				\n				\n			\n				\n				\n			\n				\n				\n				\n				\n				\n				\n				\n				\n				\n				\n				\n				\n				\n				\n				\n				\n				\n				\n			\n				\n				\n				\n				\n				\n\n121 S. 3rd Street Geneva\, IL 60134\n			\n			\n				\n				\n				\n				\n				\n				\n				\n				\n				\n				\n 
URL:https://ahconnects.org/event/adopt-n-shop-250517/
LOCATION:Geneva Shopping District\, Geneva\, Illinois
CATEGORIES:Adoption,Festival,Partner Events
ATTACH;FMTTYPE=image/png:https://ahconnects.org/wp-content/uploads/2024/07/3rd-Party-Event-Photos-Website-25.png
END:VEVENT
END:VCALENDAR