BEGIN:VCALENDAR
VERSION:2.0
PRODID:-//Anderson Humane - ECPv6.15.20//NONSGML v1.0//EN
CALSCALE:GREGORIAN
METHOD:PUBLISH
X-WR-CALNAME:Anderson Humane
X-ORIGINAL-URL:https://ahconnects.org
X-WR-CALDESC:Events for Anderson Humane
REFRESH-INTERVAL;VALUE=DURATION:PT1H
X-Robots-Tag:noindex
X-PUBLISHED-TTL:PT1H
BEGIN:VTIMEZONE
TZID:America/Chicago
BEGIN:DAYLIGHT
TZOFFSETFROM:-0600
TZOFFSETTO:-0500
TZNAME:CDT
DTSTART:20240310T080000
END:DAYLIGHT
BEGIN:STANDARD
TZOFFSETFROM:-0500
TZOFFSETTO:-0600
TZNAME:CST
DTSTART:20241103T070000
END:STANDARD
BEGIN:DAYLIGHT
TZOFFSETFROM:-0600
TZOFFSETTO:-0500
TZNAME:CDT
DTSTART:20250309T080000
END:DAYLIGHT
BEGIN:STANDARD
TZOFFSETFROM:-0500
TZOFFSETTO:-0600
TZNAME:CST
DTSTART:20251102T070000
END:STANDARD
BEGIN:DAYLIGHT
TZOFFSETFROM:-0600
TZOFFSETTO:-0500
TZNAME:CDT
DTSTART:20260308T080000
END:DAYLIGHT
BEGIN:STANDARD
TZOFFSETFROM:-0500
TZOFFSETTO:-0600
TZNAME:CST
DTSTART:20261101T070000
END:STANDARD
END:VTIMEZONE
BEGIN:VEVENT
DTSTART;VALUE=DATE:20251101
DTEND;VALUE=DATE:20251201
DTSTAMP:20260423T153159
CREATED:20251013T200559Z
LAST-MODIFIED:20251013T200559Z
UID:257832-1761955200-1764547199@ahconnects.org
SUMMARY:You Shop\, We Donate - Fundraiser with Jewelry & Coin Mart
DESCRIPTION:Dates: November 1–30Location: 757 W. Golf Road\, Schaumburg\, IL\, 60194 \nSupport animals in need while treating yourself! Throughout the entire month of November\, 10% of all jewelry sales at Jewelry & Coin Mart in Schaumburg\, IL will be donated to Anderson Humane. \nIt’s the perfect opportunity to find a special piece of jewelry for yourself or a loved one — all while helping provide care\, comfort\, and forever homes for animals in our community. \n💛 Shop for a cause and make a difference! \nCheck out their website here
URL:https://ahconnects.org/event/you-shop-we-donate-fundraiser-with-jewelry-coin-mart/
LOCATION:Jewelry & Coin Mart\, 757 W. Golf Road\, Schaumburg\, IL\, 60194\, United States
CATEGORIES:Fundraising,Partner Events
ATTACH;FMTTYPE=image/png:https://ahconnects.org/wp-content/uploads/2025/10/3rd-Party-Event-Photos-Website-2025-10-13T150515.192.png
END:VEVENT
BEGIN:VEVENT
DTSTART;VALUE=DATE:20251117
DTEND;VALUE=DATE:20260101
DTSTAMP:20260423T153159
CREATED:20251119T191818Z
LAST-MODIFIED:20251119T192005Z
UID:258019-1763337600-1767225599@ahconnects.org
SUMMARY:Raising Cane's Holiday Plush Puppy Fundraiser
DESCRIPTION:This campaign benefitting Anderson Humane brings the magic of A Christmas Story to life with – \nLimited-edition A Christmas Story–inspired Plush Puppies\, benefiting animal welfare organizations nationwide and the BISSELL Pet Foundation.\nThe return of Cane’s annual holiday bike giveaways\, gifting thousands of new bikes and helmets to kids across the U.S.\nFestive in-Restaurant décor\, themed retail\, digital ads\, and special surprises for our Caniac Club members. \nThe star of the show and back by popular demand are Cane’s three limited-edition holiday Plush Puppies\, each inspired by iconic A Christmas Story moments. Available November 19 through December 31. Available for purchase in Restaurant for $10.99 plus tax. These adorable collectors’ items will sell out fast! \nRalphie Cane – In classic Christmas morning pajamas with cracked glasses and Red Ryder charm.\nFra-Gee-Lay Cane – A nod to the leg lamp “major award\,” complete with a crate and lampshade hat.\nPink Bunny Cane – The ultimate cozy collectible\, dressed in the iconic pink bunny suit. \nBelow is a list of restaurants that will be donating a portion of the sales to Anderson Humane:\nBatavia (1998 McKee St\, Batavia\, IL 60510)\nBloomingdale (334 W Army Trail Rd\, Bloomingdale\, IL 60108)\nGlen Ellyn (499 Roosevelt Rd\, Glen Ellyn\, IL 60137)\nJoliet (3000 Plainfield Rd\, Joliet\, IL 60435)\nNaperville (698 S Rte 59\, Naperville\, IL 60540)\nOswego (2450 Route 34 Oswego\, IL 60543)\nShorewood (1007 Brook Forest Ave\, Shorewood\, IL 60404)\nWestmont (60 W 63rd St\, Westmont\, IL 60559)
URL:https://ahconnects.org/event/raising-canes-holiday-plush-puppy-fundraiser/
LOCATION:IL
CATEGORIES:Fundraising,Partner Events
ATTACH;FMTTYPE=image/jpeg:https://ahconnects.org/wp-content/uploads/2025/11/Plush-Puppies_35025_2025_ACS_Holiday_Social_1080-x-1080_02.jpg
END:VEVENT
BEGIN:VEVENT
DTSTART;VALUE=DATE:20251120
DTEND;VALUE=DATE:20260101
DTSTAMP:20260423T153159
CREATED:20251202T154432Z
LAST-MODIFIED:20251202T154432Z
UID:258078-1763596800-1767225599@ahconnects.org
SUMMARY:Bentley's Pet Stuff Giving Tree Donation Drive
DESCRIPTION:Join us as we partner with Bentley’s Pet Stuff for a pet supply donation drive to support the animals in our care. \nVisit Bentley’s Pet Stuff in Schuamburg and choose a donation item from their giving tree in-store\, or bring an item from our wish list into the store and drop it off. \nView our Chewy Wishlist here.\nView our Amazon Wishlist here.
URL:https://ahconnects.org/event/bentleys-pet-stuff-giving-tree-donation-drive/
LOCATION:Bentley’s Pet Stuff\, 1249 E. Higgins Rd\, Schaumburg\, IL\, 60194\, United States
CATEGORIES:Fundraising,Partner Events
ATTACH;FMTTYPE=image/png:https://ahconnects.org/wp-content/uploads/2025/12/3rd-Party-Event-Photos-Website-2025-12-02T094355.854.png
END:VEVENT
END:VCALENDAR