BEGIN:VCALENDAR
VERSION:2.0
PRODID:-//Anderson Humane - ECPv6.15.20//NONSGML v1.0//EN
CALSCALE:GREGORIAN
METHOD:PUBLISH
X-WR-CALNAME:Anderson Humane
X-ORIGINAL-URL:https://ahconnects.org
X-WR-CALDESC:Events for Anderson Humane
REFRESH-INTERVAL;VALUE=DURATION:PT1H
X-Robots-Tag:noindex
X-PUBLISHED-TTL:PT1H
BEGIN:VTIMEZONE
TZID:America/Chicago
BEGIN:DAYLIGHT
TZOFFSETFROM:-0600
TZOFFSETTO:-0500
TZNAME:CDT
DTSTART:20240310T080000
END:DAYLIGHT
BEGIN:STANDARD
TZOFFSETFROM:-0500
TZOFFSETTO:-0600
TZNAME:CST
DTSTART:20241103T070000
END:STANDARD
BEGIN:DAYLIGHT
TZOFFSETFROM:-0600
TZOFFSETTO:-0500
TZNAME:CDT
DTSTART:20250309T080000
END:DAYLIGHT
BEGIN:STANDARD
TZOFFSETFROM:-0500
TZOFFSETTO:-0600
TZNAME:CST
DTSTART:20251102T070000
END:STANDARD
BEGIN:DAYLIGHT
TZOFFSETFROM:-0600
TZOFFSETTO:-0500
TZNAME:CDT
DTSTART:20260308T080000
END:DAYLIGHT
BEGIN:STANDARD
TZOFFSETFROM:-0500
TZOFFSETTO:-0600
TZNAME:CST
DTSTART:20261101T070000
END:STANDARD
END:VTIMEZONE
BEGIN:VEVENT
DTSTART;VALUE=DATE:20251101
DTEND;VALUE=DATE:20251201
DTSTAMP:20260423T172456
CREATED:20251013T200559Z
LAST-MODIFIED:20251013T200559Z
UID:257832-1761955200-1764547199@ahconnects.org
SUMMARY:You Shop\, We Donate - Fundraiser with Jewelry & Coin Mart
DESCRIPTION:Dates: November 1–30Location: 757 W. Golf Road\, Schaumburg\, IL\, 60194 \nSupport animals in need while treating yourself! Throughout the entire month of November\, 10% of all jewelry sales at Jewelry & Coin Mart in Schaumburg\, IL will be donated to Anderson Humane. \nIt’s the perfect opportunity to find a special piece of jewelry for yourself or a loved one — all while helping provide care\, comfort\, and forever homes for animals in our community. \n💛 Shop for a cause and make a difference! \nCheck out their website here
URL:https://ahconnects.org/event/you-shop-we-donate-fundraiser-with-jewelry-coin-mart/
LOCATION:Jewelry & Coin Mart\, 757 W. Golf Road\, Schaumburg\, IL\, 60194\, United States
CATEGORIES:Fundraising,Partner Events
ATTACH;FMTTYPE=image/png:https://ahconnects.org/wp-content/uploads/2025/10/3rd-Party-Event-Photos-Website-2025-10-13T150515.192.png
END:VEVENT
BEGIN:VEVENT
DTSTART;TZID=America/Chicago:20251115T170000
DTEND;TZID=America/Chicago:20251115T230000
DTSTAMP:20260423T172456
CREATED:20250826T171926Z
LAST-MODIFIED:20251028T213302Z
UID:257345-1763226000-1763247600@ahconnects.org
SUMMARY:Carnivale
DESCRIPTION:Carnivale\nSaturday\, November 15th Sanfilippo Estate – Barrington Hills\, IL 60010Register or learn more » \nJoin us for a magical evening featuring Sanfilippo’s “Place de la Musique”\, renowned for its magnificent collection of restored antique music machines\, phonographs\, arcade and gambling machines\, chandeliers\, art glass\, the world’s largest theatre pipe organ\, and more. Our French-inspired Carnivale includes hors d’oeuvres\, entertainment\, and dinner in the Carousel Pavilion\, home to the world’s most spectacular European calliopes\, the Eden Palais carousel\, street tower clock\, Pullman car\, and steam engines all displayed within a breathtaking French Second Empire setting. Truly\, you will be amazed by this night long after the event is over! \nFestivities\n5:00 pm – 6:30 pm    House Tour \n6:00 pm  Carousel Pavilion Opens \n6:30 pm – 10:30 pm   Dinner\, Carousel Rides\, Entertainment\, Live Auction & Paddle Raise \nDinner prepared by Wild Asparagus \n  \nSponsorships Available\nContact Jenn Smiley at jsmiley@ahconnects.org \n			\n			\n				\n				\n				\n				\n			\n				\n				\n				\n				\n				\n				\n			\n				\n				\n				\n				\n			\n				\n				\n			\n				\n				\n				\n				\n				\n				\n				\n				\n				\n				\n				\n				\n				\n				\n				\n				\n				\n				Thank you to our Sponsors!
URL:https://ahconnects.org/event/carnivale/
LOCATION:Sanfilippo Estate\, Barrington Hills\, IL\, 60010\, United States
CATEGORIES:Festival,Fundraising
ATTACH;FMTTYPE=image/png:https://ahconnects.org/wp-content/uploads/2025/08/3rd-Party-Event-Photos-Website-2025-10-08T172424.375.png
END:VEVENT
END:VCALENDAR