BEGIN:VCALENDAR
VERSION:2.0
PRODID:-//Anderson Humane - ECPv6.15.20//NONSGML v1.0//EN
CALSCALE:GREGORIAN
METHOD:PUBLISH
X-WR-CALNAME:Anderson Humane
X-ORIGINAL-URL:https://ahconnects.org
X-WR-CALDESC:Events for Anderson Humane
REFRESH-INTERVAL;VALUE=DURATION:PT1H
X-Robots-Tag:noindex
X-PUBLISHED-TTL:PT1H
BEGIN:VTIMEZONE
TZID:America/Chicago
BEGIN:DAYLIGHT
TZOFFSETFROM:-0600
TZOFFSETTO:-0500
TZNAME:CDT
DTSTART:20240310T080000
END:DAYLIGHT
BEGIN:STANDARD
TZOFFSETFROM:-0500
TZOFFSETTO:-0600
TZNAME:CST
DTSTART:20241103T070000
END:STANDARD
BEGIN:DAYLIGHT
TZOFFSETFROM:-0600
TZOFFSETTO:-0500
TZNAME:CDT
DTSTART:20250309T080000
END:DAYLIGHT
BEGIN:STANDARD
TZOFFSETFROM:-0500
TZOFFSETTO:-0600
TZNAME:CST
DTSTART:20251102T070000
END:STANDARD
BEGIN:DAYLIGHT
TZOFFSETFROM:-0600
TZOFFSETTO:-0500
TZNAME:CDT
DTSTART:20260308T080000
END:DAYLIGHT
BEGIN:STANDARD
TZOFFSETFROM:-0500
TZOFFSETTO:-0600
TZNAME:CST
DTSTART:20261101T070000
END:STANDARD
END:VTIMEZONE
BEGIN:VEVENT
DTSTART;TZID=America/Chicago:20251025T090000
DTEND;TZID=America/Chicago:20251025T120000
DTSTAMP:20260423T185136
CREATED:20251008T213850Z
LAST-MODIFIED:20251008T213850Z
UID:257777-1761382800-1761393600@ahconnects.org
SUMMARY:Bark at the Bank - Elgin State Bank Adoption Event
DESCRIPTION:Thank you for being interested in adopting with Anderson Humane.\n\n\nWe believe that the human-animal connection has unlimited benefits for both people and animals. What better way to bring an animal into your life than adopting a pet in need of a home? We’ll have dogs & puppies at this event. We are excited to help you discover your furry companion and look forward to seeing you at our adoption event! \n\nAnderson Humane places 4\,000 homeless pets into loving homes and rehabilitates 3\,000 injured or orphaned wild animals every year. Through the support of our community\, we have found forever homes for more than 80\,000 pets since our founding more than 50 years ago. \nWe are passionate about caring for animals and about creating meaningful human-animal connections. We know that animals make us better people\, and we want as many people in our community as possible to experience that truth firsthand. \n  \nWant to learn more about Elgin State Bank? Check out their website!
URL:https://ahconnects.org/event/bark-at-the-bank-elgin-state-bank-adoption-event/
LOCATION:Elgin State Bank\, 1001 S Randall Rd\, Elgin\, IL\, 60123\, United States
ATTACH;FMTTYPE=image/png:https://ahconnects.org/wp-content/uploads/2025/10/3rd-Party-Event-Photos-Website-2025-10-08T163658.617.png
END:VEVENT
END:VCALENDAR