BEGIN:VCALENDAR
VERSION:2.0
PRODID:-//Anderson Humane - ECPv6.15.20//NONSGML v1.0//EN
CALSCALE:GREGORIAN
METHOD:PUBLISH
X-WR-CALNAME:Anderson Humane
X-ORIGINAL-URL:https://ahconnects.org
X-WR-CALDESC:Events for Anderson Humane
REFRESH-INTERVAL;VALUE=DURATION:PT1H
X-Robots-Tag:noindex
X-PUBLISHED-TTL:PT1H
BEGIN:VTIMEZONE
TZID:America/Chicago
BEGIN:DAYLIGHT
TZOFFSETFROM:-0600
TZOFFSETTO:-0500
TZNAME:CDT
DTSTART:20240310T080000
END:DAYLIGHT
BEGIN:STANDARD
TZOFFSETFROM:-0500
TZOFFSETTO:-0600
TZNAME:CST
DTSTART:20241103T070000
END:STANDARD
BEGIN:DAYLIGHT
TZOFFSETFROM:-0600
TZOFFSETTO:-0500
TZNAME:CDT
DTSTART:20250309T080000
END:DAYLIGHT
BEGIN:STANDARD
TZOFFSETFROM:-0500
TZOFFSETTO:-0600
TZNAME:CST
DTSTART:20251102T070000
END:STANDARD
BEGIN:DAYLIGHT
TZOFFSETFROM:-0600
TZOFFSETTO:-0500
TZNAME:CDT
DTSTART:20260308T080000
END:DAYLIGHT
BEGIN:STANDARD
TZOFFSETFROM:-0500
TZOFFSETTO:-0600
TZNAME:CST
DTSTART:20261101T070000
END:STANDARD
END:VTIMEZONE
BEGIN:VEVENT
DTSTART;TZID=America/Chicago:20251012T100000
DTEND;TZID=America/Chicago:20251012T120000
DTSTAMP:20260423T185137
CREATED:20251001T201410Z
LAST-MODIFIED:20251001T203649Z
UID:257751-1760263200-1760270400@ahconnects.org
SUMMARY:Wildlife Educational  Open House
DESCRIPTION:Discover Wild Learning Opportunities for Your Students \nJoin us for a special Open House for Educators at Anderson Humane Wildlife Center! This free event is designed exclusively for teachers\, principals\, and other education professionals to explore the engaging wildlife education programs we offer for schools and youth groups. \nMeet our ambassador animals up close \nPreview mini-presentations from our most popular programs \nLearn how we can bring nature-based learning directly to your classroom \nBring the whole family – fun for all ages! \nWhether you’re looking to supplement science curriculum\, inspire conservation awareness\, or provide hands-on learning\, our team is excited to show you what’s possible.
URL:https://ahconnects.org/event/wildlife-educational-open-house/
LOCATION:Elburn Forest Preserve\, Elburn Forest Preserve 45W061 IL-38\, Elburn\, IL\, 60119\, United States
CATEGORIES:Education,Wildlife
ATTACH;FMTTYPE=image/png:https://ahconnects.org/wp-content/uploads/2025/10/3rd-Party-Event-Photos-Website-2025-10-01T151330.475.png
END:VEVENT
END:VCALENDAR