BEGIN:VCALENDAR
VERSION:2.0
PRODID:-//Anderson Humane - ECPv6.15.20//NONSGML v1.0//EN
CALSCALE:GREGORIAN
METHOD:PUBLISH
X-WR-CALNAME:Anderson Humane
X-ORIGINAL-URL:https://ahconnects.org
X-WR-CALDESC:Events for Anderson Humane
REFRESH-INTERVAL;VALUE=DURATION:PT1H
X-Robots-Tag:noindex
X-PUBLISHED-TTL:PT1H
BEGIN:VTIMEZONE
TZID:America/Chicago
BEGIN:DAYLIGHT
TZOFFSETFROM:-0600
TZOFFSETTO:-0500
TZNAME:CDT
DTSTART:20240310T080000
END:DAYLIGHT
BEGIN:STANDARD
TZOFFSETFROM:-0500
TZOFFSETTO:-0600
TZNAME:CST
DTSTART:20241103T070000
END:STANDARD
BEGIN:DAYLIGHT
TZOFFSETFROM:-0600
TZOFFSETTO:-0500
TZNAME:CDT
DTSTART:20250309T080000
END:DAYLIGHT
BEGIN:STANDARD
TZOFFSETFROM:-0500
TZOFFSETTO:-0600
TZNAME:CST
DTSTART:20251102T070000
END:STANDARD
BEGIN:DAYLIGHT
TZOFFSETFROM:-0600
TZOFFSETTO:-0500
TZNAME:CDT
DTSTART:20260308T080000
END:DAYLIGHT
BEGIN:STANDARD
TZOFFSETFROM:-0500
TZOFFSETTO:-0600
TZNAME:CST
DTSTART:20261101T070000
END:STANDARD
END:VTIMEZONE
BEGIN:VEVENT
DTSTART;TZID=America/Chicago:20250920T110000
DTEND;TZID=America/Chicago:20250920T150000
DTSTAMP:20260423T203048
CREATED:20240515T163233Z
LAST-MODIFIED:20250827T142250Z
UID:253913-1758366000-1758380400@ahconnects.org
SUMMARY:Adoption Event: Apple Chevrolet in Tinley Park
DESCRIPTION:Are you ready to bring home a new best friend? Join us with Apple Chevrolet in Tinley Park for our adoption event on September 20th\, from 11 am to 3 pm! There will be plenty of adoptable dogs looking for a loving home. Could it be yours? \nInterested in learning more about our partner\, Apple Chevrolet? Check out their website for more! \nSponsorships Available\nContact Jenn Smiley at jsmiley@ahconnects.org
URL:https://ahconnects.org/event/adoption-event-apple-chevy/
LOCATION:Apple Chevrolet\, 8585 W. 159th St.\, Tinley Park\, IL\, 60487\, United States
CATEGORIES:Adoption,Partner Events
ATTACH;FMTTYPE=image/png:https://ahconnects.org/wp-content/uploads/2024/05/3rd-Party-Event-Photos-Website-9.png
END:VEVENT
END:VCALENDAR