BEGIN:VCALENDAR
VERSION:2.0
PRODID:-//Anderson Humane - ECPv6.15.20//NONSGML v1.0//EN
CALSCALE:GREGORIAN
METHOD:PUBLISH
X-WR-CALNAME:Anderson Humane
X-ORIGINAL-URL:https://ahconnects.org
X-WR-CALDESC:Events for Anderson Humane
REFRESH-INTERVAL;VALUE=DURATION:PT1H
X-Robots-Tag:noindex
X-PUBLISHED-TTL:PT1H
BEGIN:VTIMEZONE
TZID:America/Chicago
BEGIN:DAYLIGHT
TZOFFSETFROM:-0600
TZOFFSETTO:-0500
TZNAME:CDT
DTSTART:20240310T080000
END:DAYLIGHT
BEGIN:STANDARD
TZOFFSETFROM:-0500
TZOFFSETTO:-0600
TZNAME:CST
DTSTART:20241103T070000
END:STANDARD
BEGIN:DAYLIGHT
TZOFFSETFROM:-0600
TZOFFSETTO:-0500
TZNAME:CDT
DTSTART:20250309T080000
END:DAYLIGHT
BEGIN:STANDARD
TZOFFSETFROM:-0500
TZOFFSETTO:-0600
TZNAME:CST
DTSTART:20251102T070000
END:STANDARD
BEGIN:DAYLIGHT
TZOFFSETFROM:-0600
TZOFFSETTO:-0500
TZNAME:CDT
DTSTART:20260308T080000
END:DAYLIGHT
BEGIN:STANDARD
TZOFFSETFROM:-0500
TZOFFSETTO:-0600
TZNAME:CST
DTSTART:20261101T070000
END:STANDARD
END:VTIMEZONE
BEGIN:VEVENT
DTSTART;TZID=America/Chicago:20250918T123000
DTEND;TZID=America/Chicago:20250918T133000
DTSTAMP:20260423T203141
CREATED:20250903T160405Z
LAST-MODIFIED:20250903T160405Z
UID:257474-1758198600-1758202200@ahconnects.org
SUMMARY:Wildlife Warriors: The Art of Healing Nature
DESCRIPTION:Meet at the library’s outdoor stage (weather-permitting) for an interactive wildlife education program presented by Anderson Humane. We will learn about their work in wildlife rehabilitation and provide us with tips for coexisting with our local wildlife. Special appearance by Wanda the Groundhog! Feel free to bring a folding chair or blanket and a sack lunch\, or purchase food and drink from our library cafe. \nYou will explore the process of rescuing\, treating\, and releasing sick or injured wild animals. Learn about the challenges wildlife face and how rehabilitation supports conservation. \n\nRegistration is required for this event. You can register here
URL:https://ahconnects.org/event/wildlife-warriors-the-art-of-healing-nature/
LOCATION:Gail Borden Public Library\, 270 North Grove Avenue\, Elgin\, IL\, 60120\, United States
CATEGORIES:Education,Wildlife
ATTACH;FMTTYPE=image/png:https://ahconnects.org/wp-content/uploads/2025/09/3rd-Party-Event-Photos-Website-2025-09-03T110315.304.png
END:VEVENT
END:VCALENDAR