BEGIN:VCALENDAR
VERSION:2.0
PRODID:-//Anderson Humane - ECPv6.15.20//NONSGML v1.0//EN
CALSCALE:GREGORIAN
METHOD:PUBLISH
X-ORIGINAL-URL:https://ahconnects.org
X-WR-CALDESC:Events for Anderson Humane
REFRESH-INTERVAL;VALUE=DURATION:PT1H
X-Robots-Tag:noindex
X-PUBLISHED-TTL:PT1H
BEGIN:VTIMEZONE
TZID:America/Chicago
BEGIN:DAYLIGHT
TZOFFSETFROM:-0600
TZOFFSETTO:-0500
TZNAME:CDT
DTSTART:20240310T080000
END:DAYLIGHT
BEGIN:STANDARD
TZOFFSETFROM:-0500
TZOFFSETTO:-0600
TZNAME:CST
DTSTART:20241103T070000
END:STANDARD
BEGIN:DAYLIGHT
TZOFFSETFROM:-0600
TZOFFSETTO:-0500
TZNAME:CDT
DTSTART:20250309T080000
END:DAYLIGHT
BEGIN:STANDARD
TZOFFSETFROM:-0500
TZOFFSETTO:-0600
TZNAME:CST
DTSTART:20251102T070000
END:STANDARD
BEGIN:DAYLIGHT
TZOFFSETFROM:-0600
TZOFFSETTO:-0500
TZNAME:CDT
DTSTART:20260308T080000
END:DAYLIGHT
BEGIN:STANDARD
TZOFFSETFROM:-0500
TZOFFSETTO:-0600
TZNAME:CST
DTSTART:20261101T070000
END:STANDARD
END:VTIMEZONE
BEGIN:VEVENT
DTSTART;TZID=America/Chicago:20250915T190000
DTEND;TZID=America/Chicago:20250915T203000
DTSTAMP:20260423T203220
CREATED:20250903T155533Z
LAST-MODIFIED:20250909T204148Z
UID:257469-1757962800-1757968200@ahconnects.org
SUMMARY:Wildly Coexisting
DESCRIPTION:Join  Anderson Humane\, along with an ambassador animal\, to learn how we can coexist with nature right here at home. \nTake a deep dive into our local wildlife and learn practical ways to coexist safely. The program features interactive sessions with our friendly ambassador animal\, focusing on her role in the ecosystem and challenges like habitat loss. Participants will learn about responsible outdoor behaviors to minimize human-wildlife conflicts and help protect Illinois’s natural heritage \n\nRegistration is required for this event.\nRegistration will close on September 15\, 2025 @ 7:00pm.\n\nFor more information on our Wildlife Education\, click here\nClick here to register
URL:https://ahconnects.org/event/wildly-coexisting-2/
LOCATION:Town and Country Public Library District – The Mary Lynn Alms Educational Center (Meeting Room)\, 320 E. North St.\, Elburn\, 60119\, United States
CATEGORIES:Education,Wildlife
ATTACH;FMTTYPE=image/png:https://ahconnects.org/wp-content/uploads/2025/09/3rd-Party-Event-Photos-Website-2025-09-03T105441.791.png
END:VEVENT
END:VCALENDAR