BEGIN:VCALENDAR
VERSION:2.0
PRODID:-//Anderson Humane - ECPv6.15.20//NONSGML v1.0//EN
CALSCALE:GREGORIAN
METHOD:PUBLISH
X-WR-CALNAME:Anderson Humane
X-ORIGINAL-URL:https://ahconnects.org
X-WR-CALDESC:Events for Anderson Humane
REFRESH-INTERVAL;VALUE=DURATION:PT1H
X-Robots-Tag:noindex
X-PUBLISHED-TTL:PT1H
BEGIN:VTIMEZONE
TZID:America/Chicago
BEGIN:DAYLIGHT
TZOFFSETFROM:-0600
TZOFFSETTO:-0500
TZNAME:CDT
DTSTART:20240310T080000
END:DAYLIGHT
BEGIN:STANDARD
TZOFFSETFROM:-0500
TZOFFSETTO:-0600
TZNAME:CST
DTSTART:20241103T070000
END:STANDARD
BEGIN:DAYLIGHT
TZOFFSETFROM:-0600
TZOFFSETTO:-0500
TZNAME:CDT
DTSTART:20250309T080000
END:DAYLIGHT
BEGIN:STANDARD
TZOFFSETFROM:-0500
TZOFFSETTO:-0600
TZNAME:CST
DTSTART:20251102T070000
END:STANDARD
BEGIN:DAYLIGHT
TZOFFSETFROM:-0600
TZOFFSETTO:-0500
TZNAME:CDT
DTSTART:20260308T080000
END:DAYLIGHT
BEGIN:STANDARD
TZOFFSETFROM:-0500
TZOFFSETTO:-0600
TZNAME:CST
DTSTART:20261101T070000
END:STANDARD
END:VTIMEZONE
BEGIN:VEVENT
DTSTART;TZID=America/Chicago:20250907T140000
DTEND;TZID=America/Chicago:20250907T150000
DTSTAMP:20260423T203047
CREATED:20250804T185806Z
LAST-MODIFIED:20250827T142150Z
UID:257134-1757253600-1757257200@ahconnects.org
SUMMARY:Adopt a Plushie Fundraising Event at Learning Express Toys & Gifts
DESCRIPTION:Join Learning Express Toys & Gifts as they launch their new Adopt a Plushie Fundraising Campaign benefiting Anderson Humane. \nKids can choose from mystery boxes labeled Dog\, Cat\, or Wildlife—each containing a surprise plushie and a personalized adoption certificate. Plushies are priced at $20 and $30\, with $3 from every sale donated to Anderson Humane. \nThis ongoing fundraiser begins with a special launch event on Sunday\, September 7th \nSpecial Guest Appearance:Wanda the Groundhog\, an ambassador animal from Anderson Humane\, will be visiting for meet and greets from 2:00 to 3:00 p.m. \nEvent Details:Date: Sunday\, September 7thLocation: Learning Express Toys & Gifts – 900 Roosevelt Rd\, Glen Ellyn\, IL Fundraiser Benefiting: Anderson Humane \nPlushie adoptions will continue in-store beyond the event\, so you can support local animals in Anderson Humane’s care anytime you shop. \n\nWant to learn more about Learning Express Toys and Gifts? Visit their website here.  \n\nSponsorships Available\nContact Jenn Smiley at jsmiley@ahconnects.org
URL:https://ahconnects.org/event/adopt-a-plushie-fundraising-event-at-learning-express-toys-gifts/
LOCATION:Learning Express Toys & Gifts\, 900 Roosevelt Rd\, Glen Ellyn\, IL\, 60137\, United States
CATEGORIES:All Ages,Fundraising,Partner Events
ATTACH;FMTTYPE=image/png:https://ahconnects.org/wp-content/uploads/2025/08/3rd-Party-Event-Photos-Website-74.png
END:VEVENT
END:VCALENDAR