BEGIN:VCALENDAR
VERSION:2.0
PRODID:-//Anderson Humane - ECPv6.15.20//NONSGML v1.0//EN
CALSCALE:GREGORIAN
METHOD:PUBLISH
X-WR-CALNAME:Anderson Humane
X-ORIGINAL-URL:https://ahconnects.org
X-WR-CALDESC:Events for Anderson Humane
REFRESH-INTERVAL;VALUE=DURATION:PT1H
X-Robots-Tag:noindex
X-PUBLISHED-TTL:PT1H
BEGIN:VTIMEZONE
TZID:America/Chicago
BEGIN:DAYLIGHT
TZOFFSETFROM:-0600
TZOFFSETTO:-0500
TZNAME:CDT
DTSTART:20240310T080000
END:DAYLIGHT
BEGIN:STANDARD
TZOFFSETFROM:-0500
TZOFFSETTO:-0600
TZNAME:CST
DTSTART:20241103T070000
END:STANDARD
BEGIN:DAYLIGHT
TZOFFSETFROM:-0600
TZOFFSETTO:-0500
TZNAME:CDT
DTSTART:20250309T080000
END:DAYLIGHT
BEGIN:STANDARD
TZOFFSETFROM:-0500
TZOFFSETTO:-0600
TZNAME:CST
DTSTART:20251102T070000
END:STANDARD
BEGIN:DAYLIGHT
TZOFFSETFROM:-0600
TZOFFSETTO:-0500
TZNAME:CDT
DTSTART:20260308T080000
END:DAYLIGHT
BEGIN:STANDARD
TZOFFSETFROM:-0500
TZOFFSETTO:-0600
TZNAME:CST
DTSTART:20261101T070000
END:STANDARD
END:VTIMEZONE
BEGIN:VEVENT
DTSTART;VALUE=DATE:20250730
DTEND;VALUE=DATE:20250902
DTSTAMP:20260423T220318
CREATED:20250729T211817Z
LAST-MODIFIED:20250815T155026Z
UID:257089-1753833600-1756771199@ahconnects.org
SUMMARY:Aleksia’s Magnet Fundraiser – Now through September 1
DESCRIPTION:Nine-year-old Aleksia is putting her creativity to work for a cause close to her heart. She’s handmaking magnets featuring the Anderson Humane logo and donating $2 from every magnet sold to support the animals in our care. \nThis fundraiser runs through September 1st and is a great way to support Anderson Humane while celebrating the compassion and initiative of a young animal advocate. \nClick here for details\, including payment options and QR codes to order your magnet to support Aleksia and Anderson Humane! \nEvery magnet sold helps make a difference. Thank you\, Aleksia!
URL:https://ahconnects.org/event/aleksias-magnet-fundraiser-now-through-september-1/
LOCATION:IL
CATEGORIES:Fundraising,Partner Events
ATTACH;FMTTYPE=image/png:https://ahconnects.org/wp-content/uploads/2025/07/3rd-Party-Event-Photos-Website-64.png
END:VEVENT
BEGIN:VEVENT
DTSTART;VALUE=DATE:20250801
DTEND;VALUE=DATE:20250901
DTSTAMP:20260423T220318
CREATED:20250805T160625Z
LAST-MODIFIED:20250815T154636Z
UID:257151-1754006400-1756684799@ahconnects.org
SUMMARY:Fred Astaire Dance Studio - Pawty on the Dance Floor
DESCRIPTION:August 1–31 | Fred Astaire Dance Studio – St. Charles \nThis August\, Fred Astaire Dance Studio in St. Charles is partnering with Anderson Humane for a month-long event: “Paw-ty on the Dance Floor.” \nIn support of the Clear the Shelters national campaign\, his studio will donate 50% of all income from new students\, including introductory and beginner dance packages\, to Anderson Humane as well as collecting donations of items from Anderson Humane’s Wishlists. Your first steps on the dance floor will help support the animals and programs at Anderson Humane. \nWhether you’re exploring a new hobby or joining a class with a friend\, this is a fun way to get moving while giving back to a meaningful cause. \nLearn to dance. Support local animals. Make a difference. \nFor more information or to sign up\, visit Fred Astaire Studio’s Website \nTo see our Chewy Wishlist\, click here\nTo see our Amazon Wishlist\, click here 
URL:https://ahconnects.org/event/fred-astaire-dance-studio-pawty-on-the-dance-floor/
LOCATION:Fred Astaire Dance Studios – St. Charles\, 2400 E Main Street\, Suite 107 B\, St. Charles\, IL\, 60174\, United States
CATEGORIES:Fundraising,Partner Events
ATTACH;FMTTYPE=image/png:https://ahconnects.org/wp-content/uploads/2025/08/3rd-Party-Event-Photos-Website-76.png
END:VEVENT
BEGIN:VEVENT
DTSTART;VALUE=DATE:20250801
DTEND;VALUE=DATE:20250901
DTSTAMP:20260423T220318
CREATED:20250807T193537Z
LAST-MODIFIED:20250815T154716Z
UID:257206-1754006400-1756684799@ahconnects.org
SUMMARY:Bourbon Belly Hospitality Fundraiser for Anderson Humane - The Burger Local
DESCRIPTION:Support Anderson Humane all August long with Bourbon Belly Hospitality! \nBourbon Belly Hospitality is serving up something special this August! All month long\, their five restaurant locations will donate 10% of proceeds from both their Cocktail of the Month (CotM) and the Bad Habit Burger (Burger of the Month) to support the animals at Anderson Humane. \n🍹 CotM Cocktail: A refreshing mix of Código Tequila\, Foro Amaro\, Aperol\, Triple Sec\, lime juice\, and mint.\n \n🍔 Bad Habit Burger: A mouthwatering Wagyu smash patty topped with habanero pimento cheese\, candied jalapeños\, bourbon candied bacon\, and habanero-dusted onion strings on a brioche bun—served with your choice of fries or a side salad.\n \nGrab a drink. Savor a burger. And know that with every bite and sip\, you’re helping give animals a second chance. \nParticipating Locations: \n\n\nThe Burger Local – 577 S 3rd St\, Geneva\, IL \n\n\nbarrel + rye – 477 S 3rd St Ste 184\, Geneva\, IL \n\n\nProof No. 5 – 214 W Front St\, Wheaton\, IL \n\n\nThe Burger Social – 108 N Hale St\, Wheaton\, IL \n\n\nMaize + Mash – 430 N Main St\, Glen Ellyn\, IL
URL:https://ahconnects.org/event/bourbon-belly-hospitality-fundraiser-for-anderson-humane-the-burger-local/
LOCATION:The Burger Local\, 577 S 3rd St\, Geneva\, IL\, 60134\, United States
CATEGORIES:Fundraising,Partner Events
ATTACH;FMTTYPE=image/png:https://ahconnects.org/wp-content/uploads/2025/08/3rd-Party-Event-Photos-Website-86.png
END:VEVENT
BEGIN:VEVENT
DTSTART;VALUE=DATE:20250801
DTEND;VALUE=DATE:20250901
DTSTAMP:20260423T220318
CREATED:20250807T193847Z
LAST-MODIFIED:20250815T154752Z
UID:257212-1754006400-1756684799@ahconnects.org
SUMMARY:Bourbon Belly Hospitality Fundraiser for Anderson Humane - Barrel + Rye
DESCRIPTION:Support Anderson Humane all August long with Bourbon Belly Hospitality! \nBourbon Belly Hospitality is serving up something special this August! All month long\, their five restaurant locations will donate 10% of proceeds from both their Cocktail of the Month (CotM) and the Bad Habit Burger (Burger of the Month) to support the animals at Anderson Humane. \n🍹 CotM Cocktail: A refreshing mix of Código Tequila\, Foro Amaro\, Aperol\, Triple Sec\, lime juice\, and mint.\n \n🍔 Bad Habit Burger: A mouthwatering Wagyu smash patty topped with habanero pimento cheese\, candied jalapeños\, bourbon candied bacon\, and habanero-dusted onion strings on a brioche bun—served with your choice of fries or a side salad.\n \nGrab a drink. Savor a burger. And know that with every bite and sip\, you’re helping give animals a second chance. \nParticipating Locations: \n\n\nThe Burger Local – 577 S 3rd St\, Geneva\, IL \n\n\nbarrel + rye – 477 S 3rd St Ste 184\, Geneva\, IL \n\n\nProof No. 5 – 214 W Front St\, Wheaton\, IL \n\n\nThe Burger Social – 108 N Hale St\, Wheaton\, IL \n\n\nMaize + Mash – 430 N Main St\, Glen Ellyn\, IL
URL:https://ahconnects.org/event/bourbon-belly-hospitality-fundraiser-for-anderson-humane-barrel-and-rye/
LOCATION:Barrel + Rye\, 477 S 3rd Street\, Geneva\, 60134\, United States
CATEGORIES:Fundraising,Partner Events
ATTACH;FMTTYPE=image/png:https://ahconnects.org/wp-content/uploads/2025/08/3rd-Party-Event-Photos-Website-87.png
END:VEVENT
BEGIN:VEVENT
DTSTART;VALUE=DATE:20250801
DTEND;VALUE=DATE:20250901
DTSTAMP:20260423T220318
CREATED:20250807T194206Z
LAST-MODIFIED:20250815T154823Z
UID:257216-1754006400-1756684799@ahconnects.org
SUMMARY:Bourbon Belly Hospitality Fundraiser for Anderson Humane - Proof No. 5
DESCRIPTION:Support Anderson Humane all August long with Bourbon Belly Hospitality! \nBourbon Belly Hospitality is serving up something special this August! All month long\, their five restaurant locations will donate 10% of proceeds from both their Cocktail of the Month (CotM) and the Bad Habit Burger (Burger of the Month) to support the animals at Anderson Humane. \n🍹 CotM Cocktail: A refreshing mix of Código Tequila\, Foro Amaro\, Aperol\, Triple Sec\, lime juice\, and mint.\n \n🍔 Bad Habit Burger: A mouthwatering Wagyu smash patty topped with habanero pimento cheese\, candied jalapeños\, bourbon candied bacon\, and habanero-dusted onion strings on a brioche bun—served with your choice of fries or a side salad.\n \nGrab a drink. Savor a burger. And know that with every bite and sip\, you’re helping give animals a second chance. \nParticipating Locations: \n\n\nThe Burger Local – 577 S 3rd St\, Geneva\, IL \n\n\nbarrel + rye – 477 S 3rd St Ste 184\, Geneva\, IL \n\n\nProof No. 5 – 214 W Front St\, Wheaton\, IL \n\n\nThe Burger Social – 108 N Hale St\, Wheaton\, IL \n\n\nMaize + Mash – 430 N Main St\, Glen Ellyn\, IL
URL:https://ahconnects.org/event/bourbon-belly-hospitality-fundraiser-for-anderson-humane-proof-no-5/
LOCATION:Proof No. 5\, 214 W Front Street\, Wheaton\, IL\, 60187\, United States
CATEGORIES:Fundraising,Partner Events
ATTACH;FMTTYPE=image/png:https://ahconnects.org/wp-content/uploads/2025/08/3rd-Party-Event-Photos-Website-88.png
END:VEVENT
BEGIN:VEVENT
DTSTART;VALUE=DATE:20250801
DTEND;VALUE=DATE:20250901
DTSTAMP:20260423T220318
CREATED:20250807T194434Z
LAST-MODIFIED:20250815T154920Z
UID:257220-1754006400-1756684799@ahconnects.org
SUMMARY:Bourbon Belly Hospitality Fundraiser for Anderson Humane - The Burger Social
DESCRIPTION:Support Anderson Humane all August long with Bourbon Belly Hospitality! \nBourbon Belly Hospitality is serving up something special this August! All month long\, their five restaurant locations will donate 10% of proceeds from both their Cocktail of the Month (CotM) and the Bad Habit Burger (Burger of the Month) to support the animals at Anderson Humane. \n🍹 CotM Cocktail: A refreshing mix of Código Tequila\, Foro Amaro\, Aperol\, Triple Sec\, lime juice\, and mint.\n \n🍔 Bad Habit Burger: A mouthwatering Wagyu smash patty topped with habanero pimento cheese\, candied jalapeños\, bourbon candied bacon\, and habanero-dusted onion strings on a brioche bun—served with your choice of fries or a side salad.\n \nGrab a drink. Savor a burger. And know that with every bite and sip\, you’re helping give animals a second chance. \nParticipating Locations: \n\n\nThe Burger Local – 577 S 3rd St\, Geneva\, IL \n\n\nbarrel + rye – 477 S 3rd St Ste 184\, Geneva\, IL \n\n\nProof No. 5 – 214 W Front St\, Wheaton\, IL \n\n\nThe Burger Social – 108 N Hale St\, Wheaton\, IL \n\n\nMaize + Mash – 430 N Main St\, Glen Ellyn\, IL
URL:https://ahconnects.org/event/bourbon-belly-hospitality-fundraiser-for-anderson-humane-the-burger-social/
LOCATION:The Burger Social\, 108 N Hale Street\, Wheaton\, 60187\, United States
CATEGORIES:Fundraising,Partner Events
ATTACH;FMTTYPE=image/png:https://ahconnects.org/wp-content/uploads/2025/08/3rd-Party-Event-Photos-Website-89.png
END:VEVENT
BEGIN:VEVENT
DTSTART;VALUE=DATE:20250801
DTEND;VALUE=DATE:20250901
DTSTAMP:20260423T220318
CREATED:20250807T194732Z
LAST-MODIFIED:20250815T154533Z
UID:257224-1754006400-1756684799@ahconnects.org
SUMMARY:Bourbon Belly Hospitality Fundraiser for Anderson Humane - Maize + Mash
DESCRIPTION:Support Anderson Humane all August long with Bourbon Belly Hospitality! \nBourbon Belly Hospitality is serving up something special this August! All month long\, their five restaurant locations will donate 10% of proceeds from both their Cocktail of the Month (CotM) and the Bad Habit Burger (Burger of the Month) to support the animals at Anderson Humane. \n🍹 CotM Cocktail: A refreshing mix of Código Tequila\, Foro Amaro\, Aperol\, Triple Sec\, lime juice\, and mint.\n \n🍔 Bad Habit Burger: A mouthwatering Wagyu smash patty topped with habanero pimento cheese\, candied jalapeños\, bourbon candied bacon\, and habanero-dusted onion strings on a brioche bun—served with your choice of fries or a side salad.\n \nGrab a drink. Savor a burger. And know that with every bite and sip\, you’re helping give animals a second chance. \nParticipating Locations: \n\n\nThe Burger Local – 577 S 3rd St\, Geneva\, IL \n\n\nbarrel + rye – 477 S 3rd St Ste 184\, Geneva\, IL \n\n\nProof No. 5 – 214 W Front St\, Wheaton\, IL \n\n\nThe Burger Social – 108 N Hale St\, Wheaton\, IL \n\n\nMaize + Mash – 430 N Main St\, Glen Ellyn\, IL
URL:https://ahconnects.org/event/bourbon-belly-hospitality-fundraiser-for-anderson-humane-maize-mash/
LOCATION:Maize + Mash\, 430 N Main Street\, Glen Ellyn\, IL\, 60137\, United States
CATEGORIES:Fundraising,Partner Events
ATTACH;FMTTYPE=image/png:https://ahconnects.org/wp-content/uploads/2025/08/3rd-Party-Event-Photos-Website-90.png
END:VEVENT
BEGIN:VEVENT
DTSTART;TZID=America/Chicago:20250807T093000
DTEND;TZID=America/Chicago:20250807T113000
DTSTAMP:20260423T220318
CREATED:20250730T202548Z
LAST-MODIFIED:20250730T202548Z
UID:257095-1754559000-1754566200@ahconnects.org
SUMMARY:Wild Adventure  Discovery Series -Who Eats Who?
DESCRIPTION:Join Anderson Humane every Thursday morning this summer for Wild Adventure\,\na nature-based discovery series for curious minds of all ages. Held outdoors at the beautiful Elburn Forest Preserve\, each session offers a new interactive theme featuring engaging presentations\, hands-on activities\, and guest speakers passionate about the wild world around us.\nWhether you’re five or ninety-five\, there’s something new to learn and enjoy each week!\n  \nWeekly Highlights May Include:\nDiscovering native Illinois wildlife\nExploring prairie\, forest\, and wetland habitats\nCreating nature-inspired crafts and activities\nMeeting local naturalists\, wildlife experts\, and conservationists\nEnjoying family-friendly outdoor fun in a welcoming environment\nLocation: Elburn Forest Preserve\n45W061 IL-38 | Elburn\, IL\nCost: $10 for first child (children under 4 are FREE)\nWhen: Thursdays\, 9:30-11:30 am\n  \nAll Ages Welcome!\nChildren under 2 are free. All children must be accompanied by an adult.\n\nJoin us for one session—or come every week. There’s always more to discover on the wild side of summer.\nREGISTER HERE
URL:https://ahconnects.org/event/wild-adventure-discovery-series-who-eats-who/
LOCATION:Elburn Forest Preserve\, Elburn Forest Preserve 45W061 IL-38\, Elburn\, IL\, 60119\, United States
CATEGORIES:Education,Wildlife
ATTACH;FMTTYPE=image/png:https://ahconnects.org/wp-content/uploads/2025/07/3rd-Party-Event-Photos-Website-65.png
END:VEVENT
END:VCALENDAR