BEGIN:VCALENDAR
VERSION:2.0
PRODID:-//Anderson Humane - ECPv6.15.20//NONSGML v1.0//EN
CALSCALE:GREGORIAN
METHOD:PUBLISH
X-WR-CALNAME:Anderson Humane
X-ORIGINAL-URL:https://ahconnects.org
X-WR-CALDESC:Events for Anderson Humane
REFRESH-INTERVAL;VALUE=DURATION:PT1H
X-Robots-Tag:noindex
X-PUBLISHED-TTL:PT1H
BEGIN:VTIMEZONE
TZID:America/Chicago
BEGIN:DAYLIGHT
TZOFFSETFROM:-0600
TZOFFSETTO:-0500
TZNAME:CDT
DTSTART:20240310T080000
END:DAYLIGHT
BEGIN:STANDARD
TZOFFSETFROM:-0500
TZOFFSETTO:-0600
TZNAME:CST
DTSTART:20241103T070000
END:STANDARD
BEGIN:DAYLIGHT
TZOFFSETFROM:-0600
TZOFFSETTO:-0500
TZNAME:CDT
DTSTART:20250309T080000
END:DAYLIGHT
BEGIN:STANDARD
TZOFFSETFROM:-0500
TZOFFSETTO:-0600
TZNAME:CST
DTSTART:20251102T070000
END:STANDARD
BEGIN:DAYLIGHT
TZOFFSETFROM:-0600
TZOFFSETTO:-0500
TZNAME:CDT
DTSTART:20260308T080000
END:DAYLIGHT
BEGIN:STANDARD
TZOFFSETFROM:-0500
TZOFFSETTO:-0600
TZNAME:CST
DTSTART:20261101T070000
END:STANDARD
END:VTIMEZONE
BEGIN:VEVENT
DTSTART;TZID=America/Chicago:20250727T090000
DTEND;TZID=America/Chicago:20250727T100000
DTSTAMP:20260423T220419
CREATED:20250722T152649Z
LAST-MODIFIED:20250723T154140Z
UID:257043-1753606800-1753610400@ahconnects.org
SUMMARY:Paws in the Park
DESCRIPTION:Join us for Paws in the Park!\nThis one-time group walk is designed to create a structured environment to exercise and socialize your dog\, as well as get training. We will walk approximately one mile. One dog per handler\, please!\nThis class is held one of the following locations: \n-3rd Street Stroll\, 100 S 3rd Street\, Geneva \n-Lords Park\, 100 Oakwood Blvd.\, Elgin \n-Festival Park\, 132 S Grove Ave.\, Elgin \n-Batavia River Walk\, 151 Island Ave.\, Batavia \n-James Pate Philip State Park\, 2050 W Stearns Rd\, Bartlett \nPlease note the class time and location before and after signing up. $25 for a one-hour walk. \nBy signing up for this class\, you agree that: Participant agrees to hold harmless Anderson Humane from any and all claims of injury\, loss\, cost\, expenses\, or damage caused by the actions of Participant’s dog during the course of training. I hereby accept and assume\, without reservation\, all risks associated with my participation in the training program\, including\, but not limited to: the risks of any and all injuries to myself and my dog\, the risks that my dog may cause injury to other persons and/or dogs involved; and the risks that saliva\, water\, food\, and/or other debris may be present in the training area. \nReady to sign up? Click Here!
URL:https://ahconnects.org/event/paws-in-the-park-2/
LOCATION:Batavia Riverwalk\, Houston St & N Island Ave\, Batavia\, IL\, 60510
CATEGORIES:Behavior,Training
ATTACH;FMTTYPE=image/png:https://ahconnects.org/wp-content/uploads/2025/07/3rd-Party-Event-Photos-Website-63.png
END:VEVENT
BEGIN:VEVENT
DTSTART;TZID=America/Chicago:20250727T110000
DTEND;TZID=America/Chicago:20250727T150000
DTSTAMP:20260423T220419
CREATED:20240916T195724Z
LAST-MODIFIED:20250902T155257Z
UID:255091-1753614000-1753628400@ahconnects.org
SUMMARY:Adoption Event: South Elgin Petco - Adopt-a-palooza
DESCRIPTION:Join South Elgin Petco & Anderson Humane in our very first Adopt-A-Palooza!!\nOn-site adoptions\, vendors\, food trucks\, games & activities\, and giveaways!! Bring the whole family for a day of fun and pets! Leashed pets are always welcome  \nWe believe that the human-animal connection has unlimited benefits for both people and animals. What better way to bring an animal into your life than adopting a pet in need of a home? We’ll have puppies\, dogs\, and kittens at this event. We are excited to help you discover your furry companion and look forward to seeing you at our adoption event! \n\n\n\n\n\n\n\nAnderson Humane places 4\,000 homeless pets into loving homes and rehabilitates 3\,000 injured or orphaned wild animals every year. Through the support of our community\, we have found forever homes for more than 80\,000 pets since our founding more than 50 years ago. \nWe are passionate about caring for animals and about creating meaningful human-animal connections. We know that animals make us better people\, and we want as many people in our community as possible to experience that truth firsthand. \nWant to learn more about Petco? Check out their website!
URL:https://ahconnects.org/event/southelgin-petco-ae-250316/
LOCATION:Petco S. Elgin\, Petco\, 364 S Randall Rd\, South Elgin\, 60177\, United States
CATEGORIES:Adoption
ATTACH;FMTTYPE=image/png:https://ahconnects.org/wp-content/uploads/2024/09/3rd-Party-Event-Photos-Website-62.png
END:VEVENT
END:VCALENDAR