BEGIN:VCALENDAR
VERSION:2.0
PRODID:-//Anderson Humane - ECPv6.15.20//NONSGML v1.0//EN
CALSCALE:GREGORIAN
METHOD:PUBLISH
X-WR-CALNAME:Anderson Humane
X-ORIGINAL-URL:https://ahconnects.org
X-WR-CALDESC:Events for Anderson Humane
REFRESH-INTERVAL;VALUE=DURATION:PT1H
X-Robots-Tag:noindex
X-PUBLISHED-TTL:PT1H
BEGIN:VTIMEZONE
TZID:America/Chicago
BEGIN:DAYLIGHT
TZOFFSETFROM:-0600
TZOFFSETTO:-0500
TZNAME:CDT
DTSTART:20240310T080000
END:DAYLIGHT
BEGIN:STANDARD
TZOFFSETFROM:-0500
TZOFFSETTO:-0600
TZNAME:CST
DTSTART:20241103T070000
END:STANDARD
BEGIN:DAYLIGHT
TZOFFSETFROM:-0600
TZOFFSETTO:-0500
TZNAME:CDT
DTSTART:20250309T080000
END:DAYLIGHT
BEGIN:STANDARD
TZOFFSETFROM:-0500
TZOFFSETTO:-0600
TZNAME:CST
DTSTART:20251102T070000
END:STANDARD
BEGIN:DAYLIGHT
TZOFFSETFROM:-0600
TZOFFSETTO:-0500
TZNAME:CDT
DTSTART:20260308T080000
END:DAYLIGHT
BEGIN:STANDARD
TZOFFSETFROM:-0500
TZOFFSETTO:-0600
TZNAME:CST
DTSTART:20261101T070000
END:STANDARD
END:VTIMEZONE
BEGIN:VEVENT
DTSTART;TZID=America/Chicago:20250627T190000
DTEND;TZID=America/Chicago:20250628T000000
DTSTAMP:20260424T010735
CREATED:20250617T204833Z
LAST-MODIFIED:20250619T162147Z
UID:256726-1751050800-1751068800@ahconnects.org
SUMMARY:After Hours Adoption Event: Paw-Jama Party!
DESCRIPTION:Get ready for a night of cozy fun and heartwarming connections! Come in your pajamas and meet our adorable\, adoptable pets—no appointment needed. This family-friendly\, after-hours event is the perfect time to snuggle up and find your new furry best friend. \nEvent Highlights: \n\n\nMeet adoptable dogs\, puppies\, cats & kittens \n\n\nEnjoy games\, treats\, and cozy vibes \n\n\nAdoption Specials:• Adult dogs & cats (9+ months): Waived adoption fees• Puppies & kittens: 25% off adoption fees \n\n\nWhether you’re seriously considering adoption or just looking for a fun evening with the family\, you’re invited to stop by and make some memories. \nNo registration required—just drop in!
URL:https://ahconnects.org/event/after-hours-adoption-event-paw-jama-party/
LOCATION:S. Elgin Shelter\, 1000 S. LaFox\, South Elgin\, IL\, 60177\, United States
CATEGORIES:Adoption,All Ages,Night
ATTACH;FMTTYPE=image/jpeg:https://ahconnects.org/wp-content/uploads/2025/06/Sampson-Tucked-in.jpg
END:VEVENT
END:VCALENDAR